BEGIN:VCALENDAR
VERSION:2.0
PRODID:-//ChamberMaster//Event Calendar 2.0//EN
METHOD:PUBLISH
X-PUBLISHED-TTL:P3D
REFRESH-INTERVAL:P3D
CALSCALE:GREGORIAN
BEGIN:VEVENT
DTSTART:20250301T030000Z
DTEND:20250310T040000Z
X-MICROSOFT-CDO-ALLDAYEVENT:FALSE
SUMMARY:Zero to Fierce Festival
DESCRIPTION:Zero To Fierce\, the annual women's festival of Playhouse Arts\, is back and fiercer than ever! This 10-day extravaganza is all about celebrating the amazing\, creative\, and talented women in our community and beyond. Each and every event has been written\, created\, directed\, curated\, and produced by women\, and it all happens around International Women's Day because one day to celebrate just isn't enough. ?Dive into live theater and musical performances\, check out the art show\, join fun workshops\, or take your lunch break at the Arcata Playhouse and listen to inspiring talks from women who are totally rocking it. Bring your friends\, bring your family\, or roll out solo\, and join the party! Zero To Fierce is your chance to have fun\, get inspired\, and cheer on the incredible women in the Arts. ?
X-ALT-DESC;FMTTYPE=text/html:Zero To Fierce\, the annual women&rsquo\;s festival of Playhouse Arts\, is back and fiercer than ever! This 10-day extravaganza is all about celebrating the amazing\, creative\, and talented women in our community and beyond. Each and every event has been written\, created\, directed\, curated\, and produced by women\, and it all happens around International Women&rsquo\;s Day&mdash\;because one day to celebrate just isn&rsquo\;t enough. ?Dive into live theater and musical performances\, check out the art show\, join fun workshops\, or take your lunch break at the Arcata Playhouse and listen to inspiring talks from women who are totally rocking it. Bring your friends\, bring your family\, or roll out solo\, and join the party! Zero To Fierce is your chance to have fun\, get inspired\, and cheer on the incredible women in the Arts. ?
LOCATION:Arcata Playhouse\, EXIT Theatre\, Redwood Raks\, The Summitt
UID:e.2942.569
SEQUENCE:3
DTSTAMP:20260421T162821Z
URL:https://business.arcatachamber.com/events/details/zero-to-fierce-festival-569
END:VEVENT

END:VCALENDAR
