BEGIN:VCALENDAR
VERSION:2.0
PRODID:-//ChamberMaster//Event Calendar 2.0//EN
METHOD:PUBLISH
X-PUBLISHED-TTL:P3D
REFRESH-INTERVAL:P3D
CALSCALE:GREGORIAN
BEGIN:VEVENT
DTSTART:20240406T010000Z
DTEND:20240406T030000Z
X-MICROSOFT-CDO-ALLDAYEVENT:FALSE
SUMMARY:Young Professionals Mixers
DESCRIPTION:We are so excited to announce that our next Young Professionals Mixer will be on Friday\, April 5th from 6 pm to 8 pm in the Plaza View Room. This is a great space for everyone to gather for networking\, prizes\, community\, and more! FREE PROFESSIONAL HEADSHOTS.
X-ALT-DESC;FMTTYPE=text/html:We are so excited to announce that our next Young Professionals Mixer will be on Friday\, April 5th from 6 pm to 8 pm in the Plaza View Room. This is a great space for everyone to gather for networking\, prizes\, community\, and more! FREE PROFESSIONAL HEADSHOTS.&nbsp\;
LOCATION:Plaza View Room
UID:e.2942.505
SEQUENCE:3
DTSTAMP:20260422T081616Z
URL:https://business.arcatachamber.com/events/details/young-professionals-mixers-505
END:VEVENT

END:VCALENDAR
