BEGIN:VCALENDAR
VERSION:2.0
PRODID:-//ChamberMaster//Event Calendar 2.0//EN
METHOD:PUBLISH
X-PUBLISHED-TTL:P3D
REFRESH-INTERVAL:P3D
CALSCALE:GREGORIAN
BEGIN:VEVENT
DTSTART:20250328T010000Z
DTEND:20250328T030000Z
X-MICROSOFT-CDO-ALLDAYEVENT:FALSE
SUMMARY:Young Professionals Mixer
DESCRIPTION:Make new connections\, get a new professional headshot\, promote your business\, art\, or passion\, and take a small step that could add another path to your future! Enjoy free food\, great community\, and awesome raffle prizes!
X-ALT-DESC;FMTTYPE=text/html:<span style="font-family: Helvetica\, Arial\, sans-serif\; font-size: 20px\; background-color: rgb(255\, 255\, 255)\;">Make new connections\, get a new professional headshot\, promote your business\, art\, or passion\, and take a small step that could add another path to your future! Enjoy free food\, great community\, and awesome raffle prizes!</span>
LOCATION:Havana in Arcata 780 7th Street Arcata\, CA 95521
UID:e.2942.567
SEQUENCE:3
DTSTAMP:20260421T152933Z
URL:https://business.arcatachamber.com/events/details/young-professionals-mixer-567
END:VEVENT

END:VCALENDAR
