BEGIN:VCALENDAR
VERSION:2.0
PRODID:-//ChamberMaster//Event Calendar 2.0//EN
METHOD:PUBLISH
X-PUBLISHED-TTL:P3D
REFRESH-INTERVAL:P3D
CALSCALE:GREGORIAN
BEGIN:VEVENT
DTSTART:20240126T020000Z
DTEND:20240126T040000Z
X-MICROSOFT-CDO-ALLDAYEVENT:FALSE
SUMMARY:Young Professionals Mixer
DESCRIPTION:Join us for another Young Professionals Mixer on the evening of Thursday\, January 25th in the banquet room at Humbrews!\n\nThese events are crafted to provide young professionals in our community with the chance to swap ideas\, advance professionally\, establish lasting connections\, and explore shared interests while gaining an insider's perspective on the local business landscape.\n\nWe will have some free food and a raffle so if you want to donate to the raffle that would be AWESOME! Any extra food and alcohol are to be purchased separately.\n\nThank you to our sponsors\, Humbrews\, Redwood Capital Bank and Matthews Lawn Care!
X-ALT-DESC;FMTTYPE=text/html:Join us for another Young Professionals Mixer on the evening of Thursday\, January 25th in the banquet room at Humbrews!<br />\nThese events are crafted to provide young professionals in our community with the chance to swap ideas\, advance professionally\, establish lasting connections\, and explore shared interests while gaining an insider&rsquo\;s perspective on the local business landscape.<br />\nWe will have some free food and a raffle so if you want to donate to the raffle that would be AWESOME! Any extra food and alcohol are to be purchased separately.<br />\nThank you to our sponsors\, Humbrews\, Redwood Capital Bank and Matthews Lawn Care!
LOCATION:856 10th Street Arcata CA 95521
UID:e.2942.356
SEQUENCE:3
DTSTAMP:20260422T015315Z
URL:https://business.arcatachamber.com/events/details/young-professionals-mixer-356
END:VEVENT

END:VCALENDAR
