BEGIN:VCALENDAR
VERSION:2.0
PRODID:-//ChamberMaster//Event Calendar 2.0//EN
METHOD:PUBLISH
X-PUBLISHED-TTL:P3D
REFRESH-INTERVAL:P3D
CALSCALE:GREGORIAN
BEGIN:VEVENT
DTSTART:20231012T010000Z
DTEND:20231012T030000Z
X-MICROSOFT-CDO-ALLDAYEVENT:FALSE
SUMMARY:Young Professionals Mixer
DESCRIPTION:We welcome any young professional people with entrepreneurial mindsets to join us for a Mixer! Whether you're a business owner\, student\, artist\, musician\, want to start a business\, do graphic design\, anything! We are creating a space on the evening of October 11th for networking with your peers and getting inspired by your community!
X-ALT-DESC;FMTTYPE=text/html:We welcome any young professional people with entrepreneurial mindsets to join us for a Mixer! Whether you&#39\;re a business owner\, student\, artist\, musician\, want to start a business\, do graphic design\, anything! We are creating a space on the evening of October 11th for networking with your peers and getting inspired by your community!
LOCATION:Rita's Margarita's & Mexican Grill in Arcata 855 8th Street
UID:e.2942.305
SEQUENCE:3
DTSTAMP:20260421T211851Z
URL:https://business.arcatachamber.com/events/details/young-professionals-mixer-305
END:VEVENT

END:VCALENDAR
