BEGIN:VCALENDAR
VERSION:2.0
PRODID:-//ChamberMaster//Event Calendar 2.0//EN
METHOD:PUBLISH
X-PUBLISHED-TTL:P3D
REFRESH-INTERVAL:P3D
CALSCALE:GREGORIAN
BEGIN:VEVENT
DTSTART:20250121T200000Z
DTEND:20250121T213000Z
X-MICROSOFT-CDO-ALLDAYEVENT:FALSE
SUMMARY:Unlock Local Talent
DESCRIPTION:You're invited to a special presentation hosted by Cal Poly Humboldt's Career Center in partnership with the Arcata and Eureka Chambers of Commerce\n\n"Unlock Local Talent: Access recruitment resources through Cal Poly Humboldt's Career Development Center"\n\nWhere: Video conference via Zoom\n\nWhen: Tuesday\, Jan. 21st\, Noon -1:30 p.m.\n\nWhat: Learn more about the campus job board Handshake and how to use it\, annual job fairs and on-campus promotion available to local employers & ask questions!\n\nGuest Speaker: Ann Johnson-Cruz\, Employer Relations and Outreach Coordinator @ Cal Poly Humboldt
X-ALT-DESC;FMTTYPE=text/html:You&rsquo\;re invited to a special presentation hosted by Cal Poly Humboldt&rsquo\;s Career Center in partnership with the Arcata and Eureka Chambers of Commerce<br />\n&quot\;Unlock Local Talent: Access recruitment resources through Cal Poly Humboldt&#39\;s Career Development Center&quot\;<br />\nWhere: Video conference via Zoom<br />\nWhen: Tuesday\, Jan. 21st\, Noon -1:30 p.m.<br />\nWhat: Learn more about the campus job board Handshake and how to use it\, annual job fairs and on-campus promotion available to local employers &amp\; ask questions!<br />\nGuest Speaker: Ann Johnson-Cruz\, Employer Relations and Outreach Coordinator @ Cal Poly Humboldt
LOCATION:ZOOM https://humboldtstate.zoom.us/j/84378012574?pwd=E27uXQSyjZM9OXLbXSPMHvFrfi5Tcq.1
UID:e.2942.566
SEQUENCE:3
DTSTAMP:20260421T193430Z
URL:https://business.arcatachamber.com/events/details/unlock-local-talent-566
END:VEVENT

END:VCALENDAR
