BEGIN:VCALENDAR
VERSION:2.0
PRODID:-//ChamberMaster//Event Calendar 2.0//EN
METHOD:PUBLISH
X-PUBLISHED-TTL:P3D
REFRESH-INTERVAL:P3D
CALSCALE:GREGORIAN
BEGIN:VEVENT
DTSTART:20260320T170000Z
DTEND:20260320T190000Z
X-MICROSOFT-CDO-ALLDAYEVENT:FALSE
SUMMARY:Understanding Your Energy Bill: A Free Community Workshop
DESCRIPTION:Join Redwood Coast Energy Authority for a free\, staff-led workshop designed to help residential customers better understand their energy bills and explore ways to manage costs.
X-ALT-DESC;FMTTYPE=text/html:Join Redwood Coast Energy Authority for a free\, staff-led workshop designed to help residential customers better understand their energy bills and explore ways to manage costs.
LOCATION:RCEA Board Room-633 3rd St\, Eureka
UID:e.2942.656
SEQUENCE:3
DTSTAMP:20260421T172651Z
URL:https://business.arcatachamber.com/events/details/understanding-your-energy-bill-a-free-community-workshop-656
END:VEVENT

END:VCALENDAR
