BEGIN:VCALENDAR
VERSION:2.0
PRODID:-//ChamberMaster//Event Calendar 2.0//EN
METHOD:PUBLISH
X-PUBLISHED-TTL:P3D
REFRESH-INTERVAL:P3D
CALSCALE:GREGORIAN
BEGIN:VEVENT
DTSTART:20231031T220000Z
DTEND:20231101T010000Z
X-MICROSOFT-CDO-ALLDAYEVENT:FALSE
SUMMARY:Trick or Treat on the Plaza
DESCRIPTION:We are so excited for Halloween! We invite all the businesses around the plaza to decorate\, hand out candy and other prepackaged treats\, and enjoy. We invite families to come Trick or Treat\, enjoy some cider\, music\, and other fun things to be announced soon!\n\nThe plaza roads will be closed for safety!
X-ALT-DESC;FMTTYPE=text/html:<span background-color:="" font-size:="" segoe="" ui="">We are so excited for Halloween! We invite all the businesses around the plaza to decorate\, hand out candy and other prepackaged treats\, and enjoy. We invite families to come Trick or Treat\, enjoy some cider\, music\, and other fun things to be announced soon!</span><br background-color:="" font-size:="" segoe="" style="color: rgb(228\, 230\, 235)\; font-family: " ui="" />\n<span background-color:="" font-size:="" segoe="" ui="">The plaza roads will be closed for safety!</span>
LOCATION:Arcata Plaza
UID:e.2942.311
SEQUENCE:3
DTSTAMP:20260421T212129Z
URL:https://business.arcatachamber.com/events/details/trick-or-treat-on-the-plaza-311
END:VEVENT

END:VCALENDAR
