BEGIN:VCALENDAR
VERSION:2.0
PRODID:-//ChamberMaster//Event Calendar 2.0//EN
METHOD:PUBLISH
X-PUBLISHED-TTL:P3D
REFRESH-INTERVAL:P3D
CALSCALE:GREGORIAN
BEGIN:VEVENT
DTSTART:20240301T010000Z
DTEND:20240301T020000Z
X-MICROSOFT-CDO-ALLDAYEVENT:FALSE
SUMMARY:Tidy Talk Workshop
DESCRIPTION:Join Kaleigh Tuso\, a Professional Organizer and Owner of Declutter Organize Breathe! Learn about her philosophy and process. Learn functional tips to organize your home\, office\, or classroom. There will also be a safe and friendly community discussion and Q & A.
X-ALT-DESC;FMTTYPE=text/html:Join Kaleigh Tuso\, a Professional Organizer and Owner of Declutter Organize Breathe! Learn about her philosophy and process. Learn functional tips to organize your home\, office\, or classroom. There will also be a safe and friendly community discussion and Q &amp\; A.
LOCATION:1635 Heindon Road. Arcata CA
UID:e.2942.493
SEQUENCE:3
DTSTAMP:20260422T034609Z
URL:https://business.arcatachamber.com/events/details/tidy-talk-workshop-493
END:VEVENT

END:VCALENDAR
