BEGIN:VCALENDAR
VERSION:2.0
PRODID:-//ChamberMaster//Event Calendar 2.0//EN
METHOD:PUBLISH
X-PUBLISHED-TTL:P3D
REFRESH-INTERVAL:P3D
CALSCALE:GREGORIAN
BEGIN:VEVENT
DTSTART:20250314T003000Z
DTEND:20250314T013000Z
X-MICROSOFT-CDO-ALLDAYEVENT:FALSE
SUMMARY:Tidy Talk with Kaleigh Tuso
DESCRIPTION:PLEASE RSVP\n\n\n\nTidy Talk Workshop:\n\nDiscover what it means to declutter\, organize\, and tidy!\n\nLearn about the steps to take to create beautiful\, functional\, organized spaces.\n\nShare your experiences with organizing & I'll answer all of your questions!
X-ALT-DESC;FMTTYPE=text/html:<span style="font-size:14px\;"><span style="font-family:arial\;"><strong>PLEASE RSVP<br />\n<br />\nTidy Talk Workshop:<br />\nDiscover what it means to declutter\, organize\, and tidy!<br />\nLearn about the steps to take to create beautiful\, functional\, organized spaces.<br />\nShare your experiences with organizing &amp\; I&#39\;ll answer all of your questions!&nbsp\;</strong></span></span>
LOCATION:1635 Heindon Road Arcata CA 95521
UID:e.2942.570
SEQUENCE:3
DTSTAMP:20260421T151208Z
URL:https://business.arcatachamber.com/events/details/tidy-talk-with-kaleigh-tuso-570
END:VEVENT

END:VCALENDAR
