BEGIN:VCALENDAR
VERSION:2.0
PRODID:-//ChamberMaster//Event Calendar 2.0//EN
METHOD:PUBLISH
X-PUBLISHED-TTL:P3D
REFRESH-INTERVAL:P3D
CALSCALE:GREGORIAN
BEGIN:VEVENT
DTSTART:20230921T231500Z
DTEND:20230921T234500Z
X-MICROSOFT-CDO-ALLDAYEVENT:FALSE
SUMMARY:The Campus Bookstore - Ribbon Cutting
DESCRIPTION:Join us for a 4:30 pm Ribbon Cutting at the Cal Poly Humboldt Campus Store on the corner of G St and H St in Arcata!
X-ALT-DESC;FMTTYPE=text/html:<span style="color: rgb(60\, 64\, 67)\; font-family: Roboto\, Arial\, sans-serif\; font-size: 14px\; letter-spacing: 0.2px\; white-space-collapse: preserve\; background-color: rgb(255\, 255\, 255)\;">Join us for a 4:30 pm Ribbon Cutting at the Cal Poly Humboldt Campus Store on the corner of G St and H St in Arcata!</span>
LOCATION:
UID:e.2942.301
SEQUENCE:3
DTSTAMP:20260421T194506Z
URL:https://business.arcatachamber.com/events/details/the-campus-bookstore-ribbon-cutting-301
END:VEVENT

END:VCALENDAR
