BEGIN:VCALENDAR
VERSION:2.0
PRODID:-//ChamberMaster//Event Calendar 2.0//EN
METHOD:PUBLISH
X-PUBLISHED-TTL:P3D
REFRESH-INTERVAL:P3D
CALSCALE:GREGORIAN
BEGIN:VEVENT
DTSTART:20260613T170000Z
DTEND:20260614T000000Z
X-MICROSOFT-CDO-ALLDAYEVENT:FALSE
SUMMARY:The 36th Annual Arcata Bay Oyster Festival!
DESCRIPTION:
X-ALT-DESC;FMTTYPE=text/html:
LOCATION:
UID:e.2942.615
SEQUENCE:3
DTSTAMP:20260421T174322Z
URL:https://business.arcatachamber.com/events/details/the-36th-annual-arcata-bay-oyster-festival-615
END:VEVENT

END:VCALENDAR
