BEGIN:VCALENDAR
VERSION:2.0
PRODID:-//ChamberMaster//Event Calendar 2.0//EN
METHOD:PUBLISH
X-PUBLISHED-TTL:P3D
REFRESH-INTERVAL:P3D
CALSCALE:GREGORIAN
BEGIN:VEVENT
DTSTART:20250614T170000Z
DTEND:20250615T000000Z
X-MICROSOFT-CDO-ALLDAYEVENT:FALSE
SUMMARY:The 35th Annual Arcata Bay Oyster Festival
DESCRIPTION:WWW.ARCATABAYOYSTERFESTIVAL.COM
X-ALT-DESC;FMTTYPE=text/html:<a href="http://www.arcatabayoysterfestival.com">WWW.ARCATABAYOYSTERFESTIVAL.COM</a>
LOCATION:
UID:e.2942.528
SEQUENCE:3
DTSTAMP:20260421T101738Z
URL:https://business.arcatachamber.com/events/details/the-35th-annual-arcata-bay-oyster-festival-528
END:VEVENT

END:VCALENDAR
