BEGIN:VCALENDAR
VERSION:2.0
PRODID:-//ChamberMaster//Event Calendar 2.0//EN
METHOD:PUBLISH
X-PUBLISHED-TTL:P3D
REFRESH-INTERVAL:P3D
CALSCALE:GREGORIAN
BEGIN:VEVENT
DTSTART:20240210T180000Z
DTEND:20240212T000000Z
X-MICROSOFT-CDO-ALLDAYEVENT:FALSE
SUMMARY:Terrapin Glass Gardens Gallery Valentine’s Sip and Shop
DESCRIPTION:Terrapin Glass Gardens Gallery Sip and shop pop up. Glass valentine\, vases\, glasses\, tie dye heart aprons and soooo much more.
X-ALT-DESC;FMTTYPE=text/html:Terrapin Glass Gardens Gallery Sip and shop pop up. Glass valentine\, vases\, glasses\, tie dye heart aprons and soooo much more.
LOCATION:1636 Virginia way ARCATA Ca 95521
UID:e.2942.360
SEQUENCE:3
DTSTAMP:20260422T034953Z
URL:https://business.arcatachamber.com/events/details/terrapin-glass-gardens-gallery-valentine-s-sip-and-shop-360
END:VEVENT

END:VCALENDAR
