BEGIN:VCALENDAR
VERSION:2.0
PRODID:-//ChamberMaster//Event Calendar 2.0//EN
METHOD:PUBLISH
X-PUBLISHED-TTL:P3D
REFRESH-INTERVAL:P3D
CALSCALE:GREGORIAN
BEGIN:VEVENT
DTSTART:20231118T180000Z
DTEND:20231118T223000Z
X-MICROSOFT-CDO-ALLDAYEVENT:FALSE
SUMMARY:Survivors of Suicide Loss Day - Arcata Event Site
DESCRIPTION:International Survivors of Suicide Loss Day is an event in which survivors of suicide loss come together to find connection\, understanding\, and hope through their shared experience. This year\, International Survivors of Suicide Loss Day is Saturday\, November 18\, 2023. Our community will come together at Potawot Health Village at United Indian Health Services. Snacks will be served. Wear loose comfortable clothing. Art making supplies will be provided. Please bring a photo if you like or an item that connects you with your beloved. Signs will be posted at the Potawot Health Village to find the Board room.
X-ALT-DESC;FMTTYPE=text/html:International Survivors of Suicide Loss Day is an event in which survivors of suicide loss come together to find connection\, understanding\, and hope through their shared experience. This year\, International Survivors of Suicide Loss Day is Saturday\, November 18\, 2023. Our community will come together at Potawot Health Village at United Indian Health Services. Snacks will be served. Wear loose comfortable clothing. Art making supplies will be provided. Please bring a photo if you like or an item that connects you with your beloved. Signs will be posted at the Potawot Health Village to find the Board room.
LOCATION:Potawot Health Village United Indian Health Services 1600 Weeot Way Arcata\, CA 9551
UID:e.2942.342
SEQUENCE:3
DTSTAMP:20260421T230439Z
URL:https://business.arcatachamber.com/events/details/survivors-of-suicide-loss-day-arcata-event-site-342
END:VEVENT

END:VCALENDAR
