BEGIN:VCALENDAR
VERSION:2.0
PRODID:-//ChamberMaster//Event Calendar 2.0//EN
METHOD:PUBLISH
X-PUBLISHED-TTL:P3D
REFRESH-INTERVAL:P3D
CALSCALE:GREGORIAN
BEGIN:VEVENT
DTSTART:20260122T183000Z
DTEND:20260122T203000Z
X-MICROSOFT-CDO-ALLDAYEVENT:FALSE
SUMMARY:State of the City
DESCRIPTION:We're excited to announce the 2026 State of the City! This year it will be held at Arcata Playhouse from 10:30 am to 12:30 pm and is FREE for Chamber Members and $10 for Non-members. There will be presentations from the Chamber\, City\, and Cal Poly Humboldt Leaders. Light refreshments will be provided by Redwood Capital Bank before the program and a short Q & A will be hosted after the program. Members please still register for free online so we can get a headcount. Non-members\, click the link in our bio to register and purchase a ticket.
X-ALT-DESC;FMTTYPE=text/html:We&#39\;re excited to announce the 2026 State of the City! This year it will be held at Arcata Playhouse from 10:30 am to 12:30 pm and is FREE for Chamber Members and $10 for Non-members. There will be presentations from the Chamber\, City\, and Cal Poly Humboldt Leaders. Light refreshments will be provided by Redwood Capital Bank before the program and a short Q &amp\; A will be hosted after the program. Members please still register for free online so we can get a headcount. Non-members\, click the link in our bio to register and purchase a ticket.
LOCATION:Arcata Playhouse 1251 9th St\, Arcata\, CA 95521
UID:e.2942.622
SEQUENCE:3
DTSTAMP:20260421T191211Z
URL:https://business.arcatachamber.com/events/details/state-of-the-city-622
END:VEVENT

END:VCALENDAR
