BEGIN:VCALENDAR
VERSION:2.0
PRODID:-//ChamberMaster//Event Calendar 2.0//EN
METHOD:PUBLISH
X-PUBLISHED-TTL:P3D
REFRESH-INTERVAL:P3D
CALSCALE:GREGORIAN
BEGIN:VEVENT
DTSTART:20250520T003000Z
DTEND:20250520T013000Z
X-MICROSOFT-CDO-ALLDAYEVENT:FALSE
SUMMARY:Sharing Your Story: A Public Relations Workshop with Rosselli Media Management
DESCRIPTION:This is an introductory workshop to public relations for small to mid-sized businesses and nonprofits in Humboldt County. Specifically\, we will focus on explaining what public relations is\, why it's important\, and how to engage the media in your story.\n\n\n\nThe purpose of this workshop is to help owners understand how to work with the media and the public to tell their story\, build trust with customers\, and increase awareness for their brand. Attendees should leave with a better understanding of public relations and its importance\, the key players in Humboldt County\, how to write a press release\, and how to contact the media effectively.
X-ALT-DESC;FMTTYPE=text/html:This is an introductory workshop to public relations for small to mid-sized businesses and nonprofits in Humboldt County. Specifically\, we will focus on explaining what public relations is\, why it&rsquo\;s important\, and how to engage the media in your story.<br />\n<br />\nThe purpose of this workshop is to help owners understand how to work with the media and the public to tell their story\, build trust with customers\, and increase awareness for their brand. Attendees should leave with a better understanding of public relations and its importance\, the key players in Humboldt County\, how to write a press release\, and how to contact the media effectively.
LOCATION:Arcata Chamber of Commerce 1635 Heindon Road Arcata\, CA 95521
UID:e.2942.575
SEQUENCE:3
DTSTAMP:20260421T115453Z
URL:https://business.arcatachamber.com/events/details/sharing-your-story-a-public-relations-workshop-with-rosselli-media-management-575
END:VEVENT

END:VCALENDAR
