BEGIN:VCALENDAR
VERSION:2.0
PRODID:-//ChamberMaster//Event Calendar 2.0//EN
METHOD:PUBLISH
X-PUBLISHED-TTL:P3D
REFRESH-INTERVAL:P3D
CALSCALE:GREGORIAN
BEGIN:VEVENT
DTSTART:20230625T170000Z
DTEND:20230625T200000Z
X-MICROSOFT-CDO-ALLDAYEVENT:FALSE
SUMMARY:Seawood Cape Preserve Community Stewardship Day
DESCRIPTION:Please join us as stewards of beautiful Seawood Cape Preserve. On the fourth Sunday of each month\, we work from 10 am - 1 pm removing invasive plant species across the Preserve. Hand tools and gloves will be provided. Please wear work clothes (long sleeves\, pants\, hats\, and sturdy shoes) and bring water. Please sign up for the event @ https://www.eventbrite.com/e/seawood-cape-preserve-community-stewardship-days-tickets-494160696947 We will meet on the east side of the Preserve at 2265 Patrick's Point Drive. If driving north on highway 101\, take exit 731 for Seawood Drive. Turn right on Patrick's Point Drive and the Preserve is the first driveway on the right. Follow the driveway past the house and trailer\, bear to the right\, and park at the warehouse. For questions\,please email seawoodcapepreserve@wildlandsconservancy.org or call 707-633-9132.
X-ALT-DESC;FMTTYPE=text/html:Please join us as stewards of beautiful Seawood Cape Preserve. On the fourth Sunday of each month\, we work from 10 am - 1 pm removing invasive plant species across the Preserve. Hand tools and gloves will be provided. Please wear work clothes (long sleeves\, pants\, hats\, and sturdy shoes) and bring water. Please sign up for the event @ https://www.eventbrite.com/e/seawood-cape-preserve-community-stewardship-days-tickets-494160696947 We will meet on the east side of the Preserve at 2265 Patrick&#39\;s Point Drive. If driving north on highway 101\, take exit 731 for Seawood Drive. Turn right on Patrick&#39\;s Point Drive and the Preserve is the first driveway on the right. Follow the driveway past the house and trailer\, bear to the right\, and park at the warehouse. For questions\,please email seawoodcapepreserve@wildlandsconservancy.org or call 707-633-9132.
LOCATION:Seawood Cape Preserve 2265 Patricks Point Drive Trinidad\, CA 95570
UID:e.2942.283
SEQUENCE:3
DTSTAMP:20260421T145257Z
URL:https://business.arcatachamber.com/events/details/seawood-cape-preserve-community-stewardship-day-283
END:VEVENT

END:VCALENDAR
