BEGIN:VCALENDAR
VERSION:2.0
PRODID:-//ChamberMaster//Event Calendar 2.0//EN
METHOD:PUBLISH
X-PUBLISHED-TTL:P3D
REFRESH-INTERVAL:P3D
CALSCALE:GREGORIAN
BEGIN:VEVENT
DTSTART:20241214T000000Z
DTEND:20241214T030000Z
X-MICROSOFT-CDO-ALLDAYEVENT:FALSE
SUMMARY:Season of Wonder and Light Celebration on the Plaza
DESCRIPTION:Join us for a celebration on the plaza for pictures with Santa and the Snowflake Queen\, a horse-drawn carriage\, and more!\n\nPerformances by\n\nRedwood Interfaith Gospel Choir at 4:00 pm\n\nJacoby Creek School Choir at 5:00 pm\n\nA Company of Voices Choir at 5:30 pm\n\nThe Holly Jolly Crab Grass Band at 6:00 pm\n\nNo Limits Dance Academy at 6:30 pm\n\nhttps://arcatachamber.com/season-of-wonder-and-light/\n\nMore TBA!\n\nAnd remember to SHOP LOCAL!!!
X-ALT-DESC;FMTTYPE=text/html:Join us for a celebration on the plaza for pictures with Santa and the Snowflake Queen\, a horse-drawn carriage\, and more!<br />\nPerformances by<br />\nRedwood Interfaith Gospel Choir at 4:00 pm<br />\nJacoby Creek School Choir at 5:00 pm<br />\nA Company of Voices Choir at 5:30 pm<br />\nThe Holly Jolly Crab Grass Band at 6:00 pm<br />\nNo Limits Dance Academy at 6:30 pm<br />\nhttps://arcatachamber.com/season-of-wonder-and-light/<br />\nMore TBA!<br />\nAnd remember to SHOP LOCAL!!!
LOCATION:Arcata Plaza
UID:e.2942.551
SEQUENCE:3
DTSTAMP:20260421T194619Z
URL:https://business.arcatachamber.com/events/details/season-of-wonder-and-light-celebration-on-the-plaza-551
END:VEVENT

END:VCALENDAR
