BEGIN:VCALENDAR
VERSION:2.0
PRODID:-//ChamberMaster//Event Calendar 2.0//EN
METHOD:PUBLISH
X-PUBLISHED-TTL:P3D
REFRESH-INTERVAL:P3D
CALSCALE:GREGORIAN
BEGIN:VEVENT
DTSTART:20251213T010000Z
DTEND:20251213T030000Z
X-MICROSOFT-CDO-ALLDAYEVENT:FALSE
SUMMARY:Season of Wonder and Light Celebration
DESCRIPTION:Join us on Friday\, December 12th\, from 5:00 pm - 7:00 pm for a Season of Wonder and Light Celebration! The Redwood Interfaith Gospel Choir will be performing at 5:15\, the Holly Jolly Crab Grass Band will be at 6:00 pm\, and you can take pictures with Santa and the Snowflake queen! If the weather permits\, we will be in the center of the Plaza\, if not\, we will move into the Jacoby's Storehouse!
X-ALT-DESC;FMTTYPE=text/html:Join us on Friday\, December 12th\, from 5:00 pm - 7:00 pm for a Season of Wonder and Light Celebration! The Redwood Interfaith Gospel Choir will be performing at 5:15\, the Holly Jolly Crab Grass Band will be at 6:00 pm\, and you can take pictures with Santa and the Snowflake queen! If the weather permits\, we will be in the center of the Plaza\, if not\, we will move into the Jacoby&#39\;s Storehouse!
LOCATION:Arcata Plaza
UID:e.2942.611
SEQUENCE:3
DTSTAMP:20260421T205202Z
URL:https://business.arcatachamber.com/events/details/season-of-wonder-and-light-celebration-611
END:VEVENT

END:VCALENDAR
