BEGIN:VCALENDAR
VERSION:2.0
PRODID:-//ChamberMaster//Event Calendar 2.0//EN
METHOD:PUBLISH
X-PUBLISHED-TTL:P3D
REFRESH-INTERVAL:P3D
CALSCALE:GREGORIAN
BEGIN:VEVENT
DTSTART:20240406T160000Z
DTEND:20240406T230000Z
X-MICROSOFT-CDO-ALLDAYEVENT:FALSE
SUMMARY:Run in the Redwoods
DESCRIPTION:Run in the Redwoods- 5K Fun Run & Walk at Prairie Creek Redwood State Park. Family friendly event located within the majestic Redwoods. This fun event is open to everyone. There will also be a Run Festival with vendors and music from 10am - 4pm located by the visitors center.
X-ALT-DESC;FMTTYPE=text/html:Run in the Redwoods- 5K Fun Run &amp\; Walk at Prairie Creek Redwood State Park. Family friendly event located within the majestic Redwoods. This fun event is open to everyone. There will also be a Run Festival with vendors and music from 10am - 4pm located by the visitors center.
LOCATION:Newton B Drury Scenic Pkwy\, Orick CA 95555
UID:e.2942.359
SEQUENCE:3
DTSTAMP:20260422T064430Z
URL:https://business.arcatachamber.com/events/details/run-in-the-redwoods-359
END:VEVENT

END:VCALENDAR
