BEGIN:VCALENDAR
VERSION:2.0
PRODID:-//ChamberMaster//Event Calendar 2.0//EN
METHOD:PUBLISH
X-PUBLISHED-TTL:P3D
REFRESH-INTERVAL:P3D
CALSCALE:GREGORIAN
BEGIN:VEVENT
DTSTART:20260201T040000Z
DTEND:20260201T075500Z
X-MICROSOFT-CDO-ALLDAYEVENT:FALSE
SUMMARY:Richards' Goat Fire Benefit: Cozy Night
DESCRIPTION:Don't feel up to a sweaty\, crowded\, booming dance party but want to get out and support fire relief? Richards' Goat Tavern & Tea Room will be hosting a Hot Cocoa Bar to benefit Arcata fire relief\, with both non-alcoholic and alcoholic options such as Dubai Cocoa\, house-infused spirits\, whipped cream\, toppings\, and more. Come get cozy with chill music while warming up with fancy cocoas\, comfort food\, cocktails\, mocktails\, and tea. More details TBA. Bar is open from 8 pm - 1 am.
X-ALT-DESC;FMTTYPE=text/html:Don&#39\;t feel up to a sweaty\, crowded\, booming dance party but want to get out and support fire relief? Richards&#39\; Goat Tavern &amp\; Tea Room will be hosting a Hot Cocoa Bar to benefit Arcata fire relief\, with both non-alcoholic and alcoholic options such as Dubai Cocoa\, house-infused spirits\, whipped cream\, toppings\, and more. Come get cozy with chill music while warming up with fancy cocoas\, comfort food\, cocktails\, mocktails\, and tea. More details TBA. Bar is open from 8 pm - 1 am.
LOCATION:Richards' Goat Tavern & Tea Room 401 I Street Arcata\, CA
UID:e.2942.643
SEQUENCE:3
DTSTAMP:20260421T191119Z
URL:https://business.arcatachamber.com/events/details/richards-goat-fire-benefit-cozy-night-643
END:VEVENT

END:VCALENDAR
