BEGIN:VCALENDAR
VERSION:2.0
PRODID:-//ChamberMaster//Event Calendar 2.0//EN
METHOD:PUBLISH
X-PUBLISHED-TTL:P3D
REFRESH-INTERVAL:P3D
CALSCALE:GREGORIAN
BEGIN:VEVENT
DTSTART:20260131T043000Z
DTEND:20260131T075500Z
X-MICROSOFT-CDO-ALLDAYEVENT:FALSE
SUMMARY:Richards' Goat Fire Benefit
DESCRIPTION:Come listen to bumpin' 80s - 90s music\, watch classic MTV music videos on the Big Screen in the theatre\, and dance along! Retro dress-up encouraged. Sliding scale suggested donations collected will be spread across existing Arcata fire relief fundraisers that are still in need.
X-ALT-DESC;FMTTYPE=text/html:Come listen to bumpin&#39\; 80s - 90s music\, watch classic MTV music videos on the Big Screen in the theatre\, and dance along! Retro dress-up encouraged. Sliding scale suggested donations collected will be spread across existing Arcata fire relief fundraisers that are still in need.
LOCATION:Richards' Goat Tavern & Tea Room 401 I Street Arcata
UID:e.2942.642
SEQUENCE:3
DTSTAMP:20260421T190955Z
URL:https://business.arcatachamber.com/events/details/richards-goat-fire-benefit-642
END:VEVENT

END:VCALENDAR
