BEGIN:VCALENDAR
VERSION:2.0
PRODID:-//ChamberMaster//Event Calendar 2.0//EN
METHOD:PUBLISH
X-PUBLISHED-TTL:P3D
REFRESH-INTERVAL:P3D
CALSCALE:GREGORIAN
BEGIN:VEVENT
DTSTART:20231103T233000Z
DTEND:20231104T000000Z
X-MICROSOFT-CDO-ALLDAYEVENT:FALSE
SUMMARY:Ribbon Cutting - The Basement
DESCRIPTION:Join us for a Ribbon Cutting and welcoming a new business to downtown Arcata!
X-ALT-DESC;FMTTYPE=text/html:Join us for a Ribbon Cutting and welcoming a new business to downtown Arcata!
LOCATION:780 7th Street Arcata CA 95521
UID:e.2942.334
SEQUENCE:3
DTSTAMP:20260421T230205Z
URL:https://business.arcatachamber.com/events/details/ribbon-cutting-the-basement-334
END:VEVENT

END:VCALENDAR
