BEGIN:VCALENDAR
VERSION:2.0
PRODID:-//ChamberMaster//Event Calendar 2.0//EN
METHOD:PUBLISH
X-PUBLISHED-TTL:P3D
REFRESH-INTERVAL:P3D
CALSCALE:GREGORIAN
BEGIN:VEVENT
DTSTART:20231006T230000Z
DTEND:20231006T230000Z
X-MICROSOFT-CDO-ALLDAYEVENT:FALSE
SUMMARY:Ribbon Cutting - Social Spa/Humboldt Center for New Growth
DESCRIPTION:Join us in welcoming a new business to Arcata!\n\nSocial Spas and Humboldt Center for New Growth are Collaborating on a great space for wellness right on 11th st!
X-ALT-DESC;FMTTYPE=text/html:<div><span background-color:="" font-size:="" segoe="" style="font-family: " ui="">Join us in welcoming a new business to Arcata!</span><br background-color:="" font-size:="" segoe="" style="color: rgb(228\, 230\, 235)\; font-family: " ui="" />\n<span background-color:="" font-size:="" segoe="" style="font-family: " ui="">Social Spas and Humboldt Center for New Growth are Collaborating on a great space for wellness right on 11th st!</span></div>\n
LOCATION:760 11th Street\, Arcata\, CA 95521
UID:e.2942.310
SEQUENCE:3
DTSTAMP:20260421T212159Z
URL:https://business.arcatachamber.com/events/details/ribbon-cutting-social-spa-humboldt-center-for-new-growth-310
END:VEVENT

END:VCALENDAR
