BEGIN:VCALENDAR
VERSION:2.0
PRODID:-//ChamberMaster//Event Calendar 2.0//EN
METHOD:PUBLISH
X-PUBLISHED-TTL:P3D
REFRESH-INTERVAL:P3D
CALSCALE:GREGORIAN
BEGIN:VEVENT
DTSTART:20231003T230000Z
DTEND:20231003T233000Z
X-MICROSOFT-CDO-ALLDAYEVENT:FALSE
SUMMARY:Ribbon Cutting & Grand Opening - Daydream Arcata
DESCRIPTION:
X-ALT-DESC;FMTTYPE=text/html:
LOCATION:905 H Street Arcata CA 95521
UID:e.2942.313
SEQUENCE:3
DTSTAMP:20260421T230327Z
URL:https://business.arcatachamber.com/events/details/ribbon-cutting-grand-opening-daydream-arcata-313
END:VEVENT

END:VCALENDAR
