BEGIN:VCALENDAR
VERSION:2.0
PRODID:-//ChamberMaster//Event Calendar 2.0//EN
METHOD:PUBLISH
X-PUBLISHED-TTL:P3D
REFRESH-INTERVAL:P3D
CALSCALE:GREGORIAN
BEGIN:VEVENT
DTSTART:20231014T000000Z
DTEND:20231014T003000Z
X-MICROSOFT-CDO-ALLDAYEVENT:FALSE
SUMMARY:Ribbon Cutting Ceremony - Elemental Real Estate + Design
DESCRIPTION:Join us in celebrating a new business in Downtown Arcata!
X-ALT-DESC;FMTTYPE=text/html:Join us in celebrating a new business in Downtown Arcata!
LOCATION:1101 H Street Arcata\, CA 95521
UID:e.2942.303
SEQUENCE:3
DTSTAMP:20260421T212021Z
URL:https://business.arcatachamber.com/events/details/ribbon-cutting-ceremony-elemental-real-estate-design-303
END:VEVENT

END:VCALENDAR
