BEGIN:VCALENDAR
VERSION:2.0
PRODID:-//ChamberMaster//Event Calendar 2.0//EN
METHOD:PUBLISH
X-PUBLISHED-TTL:P3D
REFRESH-INTERVAL:P3D
CALSCALE:GREGORIAN
BEGIN:VEVENT
DTSTART:20221014T230000Z
DTEND:20221015T000000Z
X-MICROSOFT-CDO-ALLDAYEVENT:FALSE
SUMMARY:Ribbon Cutting at Humboldt Haberdashery
DESCRIPTION:The McKinleyville and Arcata Chambers of Commerce are excited to host a Ribbon Cutting for the Grand Opening of Humboldt Haberdashery!\n\nJoin us during Arts! Arcata.\n\nLight refreshments will be available.
X-ALT-DESC;FMTTYPE=text/html:The McKinleyville and Arcata Chambers of Commerce are excited to host a Ribbon Cutting for the Grand Opening of Humboldt Haberdashery!<br />\nJoin us during Arts! Arcata.<br />\nLight refreshments will be available.
LOCATION:Humboldt Haberdashery 959 H Street Arcata\, CA
UID:e.2942.42
SEQUENCE:3
DTSTAMP:20260421T145251Z
URL:https://business.arcatachamber.com/events/details/ribbon-cutting-at-humboldt-haberdashery-42
END:VEVENT

END:VCALENDAR
