BEGIN:VCALENDAR
VERSION:2.0
PRODID:-//ChamberMaster//Event Calendar 2.0//EN
METHOD:PUBLISH
X-PUBLISHED-TTL:P3D
REFRESH-INTERVAL:P3D
CALSCALE:GREGORIAN
BEGIN:VEVENT
DTSTART:20231111T003000Z
DTEND:20231111T003000Z
X-MICROSOFT-CDO-ALLDAYEVENT:FALSE
SUMMARY:Ribbon Cutting
DESCRIPTION:Join us in welcoming a new business to the Uniontown Shopping Center!
X-ALT-DESC;FMTTYPE=text/html:Join us in welcoming a new business to the Uniontown Shopping Center!
LOCATION:600 F Street Suite 7 Arcata CA 95521
UID:e.2942.335
SEQUENCE:3
DTSTAMP:20260422T002649Z
URL:https://business.arcatachamber.com/events/details/ribbon-cutting-335
END:VEVENT

END:VCALENDAR
