BEGIN:VCALENDAR
VERSION:2.0
PRODID:-//ChamberMaster//Event Calendar 2.0//EN
METHOD:PUBLISH
X-PUBLISHED-TTL:P3D
REFRESH-INTERVAL:P3D
CALSCALE:GREGORIAN
BEGIN:VEVENT
DTSTART:20260131T190000Z
DTEND:20260202T000000Z
X-MICROSOFT-CDO-ALLDAYEVENT:FALSE
SUMMARY:Peaches & Pearls Arcata Fire Fundraiser
DESCRIPTION:Arcata Fire Fundraiser with Peaches & Pearls and Duchess Burlesque! We will have girls in the windows as well as performances. You can purchase tickets to support the people and businesses effected by the fire! You can win burlesque classes\, lap dancing classes and so much more! You can purchase tickets anytime Saturday or Sunday during open hours. The event will be 2-6 on Saturday as the first responders parade should have its own light shine ??
X-ALT-DESC;FMTTYPE=text/html:Arcata Fire Fundraiser with Peaches &amp\; Pearls and Duchess Burlesque! We will have girls in the windows as well as performances. You can purchase tickets to support the people and businesses effected by the fire! You can win burlesque classes\, lap dancing classes and so much more! You can purchase tickets anytime Saturday or Sunday during open hours. The event will be 2-6 on Saturday as the first responders parade should have its own light shine ??
LOCATION:Peaches & Pearls
UID:e.2942.641
SEQUENCE:3
DTSTAMP:20260421T173831Z
URL:https://business.arcatachamber.com/events/details/peaches-pearls-arcata-fire-fundraiser-641
END:VEVENT

END:VCALENDAR
