BEGIN:VCALENDAR
VERSION:2.0
PRODID:-//ChamberMaster//Event Calendar 2.0//EN
METHOD:PUBLISH
X-PUBLISHED-TTL:P3D
REFRESH-INTERVAL:P3D
CALSCALE:GREGORIAN
BEGIN:VEVENT
DTSTART:20250606T003000Z
DTEND:20250606T020000Z
X-MICROSOFT-CDO-ALLDAYEVENT:FALSE
SUMMARY:Oyster Fest Kick-Off Party
DESCRIPTION:Join us at The Pub at the Creamery!
X-ALT-DESC;FMTTYPE=text/html:Join us at The Pub at the Creamery!
LOCATION:
UID:e.2942.556
SEQUENCE:3
DTSTAMP:20260421T101437Z
URL:https://business.arcatachamber.com/events/details/oyster-fest-kick-off-party-556
END:VEVENT

END:VCALENDAR
