BEGIN:VCALENDAR
VERSION:2.0
PRODID:-//ChamberMaster//Event Calendar 2.0//EN
METHOD:PUBLISH
X-PUBLISHED-TTL:P3D
REFRESH-INTERVAL:P3D
CALSCALE:GREGORIAN
BEGIN:VEVENT
DTSTART:20230331T000000Z
DTEND:20230331T003000Z
X-MICROSOFT-CDO-ALLDAYEVENT:FALSE
SUMMARY:Open House & Ribbon Cutting
DESCRIPTION:Please join us for a ribbon cutting at 5:00 pm for Kassandra Chrisco DPT\, one of our newer members!
X-ALT-DESC;FMTTYPE=text/html:Please join us for a ribbon cutting at 5:00 pm for Kassandra Chrisco DPT\, one of our newer members!
LOCATION:1460 G St\, Arcata\, CA 95521\, USA
UID:e.2942.275
SEQUENCE:3
DTSTAMP:20260421T114708Z
URL:https://business.arcatachamber.com/events/details/open-house-ribbon-cutting-275
END:VEVENT

END:VCALENDAR
