BEGIN:VCALENDAR
VERSION:2.0
PRODID:-//ChamberMaster//Event Calendar 2.0//EN
METHOD:PUBLISH
X-PUBLISHED-TTL:P3D
REFRESH-INTERVAL:P3D
CALSCALE:GREGORIAN
BEGIN:VEVENT
DTSTART:20230623T170000Z
DTEND:20230623T180000Z
X-MICROSOFT-CDO-ALLDAYEVENT:FALSE
SUMMARY:OLLI Let's Connect
DESCRIPTION:OLLI Let's Connect Free Online Conversations. This week's topic is: Growing up\, how was your birthday celebrated? These weekly sessions\, which began early in the pandemic as a response to the isolation brought on by COVID-19\, have grown to become a regular gathering of friendly and interesting people. Facilitated by Tracey Barnes-Priestley\, this hour of conversation focuses on a new topic each week. It is time for us to share meaningful stories\, thought-provoking experiences\, and often\, plenty of laughter. Please join us! Register here: https://connect.humboldt.edu/register/?id=ecb1c1ba-2298-46d1-8974-35e389ab998f
X-ALT-DESC;FMTTYPE=text/html:OLLI Let&#39\;s Connect Free Online Conversations. This week&#39\;s topic is: Growing up\, how was your birthday celebrated? These weekly sessions\, which began early in the pandemic as a response to the isolation brought on by COVID-19\, have grown to become a regular gathering of friendly and interesting people. Facilitated by Tracey Barnes-Priestley\, this hour of conversation focuses on a new topic each week. It is time for us to share meaningful stories\, thought-provoking experiences\, and often\, plenty of laughter. Please join us! Register here: https://connect.humboldt.edu/register/?id=ecb1c1ba-2298-46d1-8974-35e389ab998f
LOCATION:Zoom
UID:e.2942.289
SEQUENCE:3
DTSTAMP:20260421T145000Z
URL:https://business.arcatachamber.com/events/details/olli-let-s-connect-289
END:VEVENT

END:VCALENDAR
