BEGIN:VCALENDAR
VERSION:2.0
PRODID:-//ChamberMaster//Event Calendar 2.0//EN
METHOD:PUBLISH
X-PUBLISHED-TTL:P3D
REFRESH-INTERVAL:P3D
CALSCALE:GREGORIAN
BEGIN:VEVENT
DTSTART:20230724T190000Z
DTEND:20230724T200000Z
X-MICROSOFT-CDO-ALLDAYEVENT:FALSE
SUMMARY:OLLI Brown Bag Lunch: Update on Humboldt County Climate Action & Sea Level Rise Planning
DESCRIPTION:This week: Update on Humboldt County Climate Action & Sea Level Rise Planning with Michael Richardson\, Planner\, Humboldt County. The presentations begin promptly at noon and last about an hour\, with time for questions. All OLLI Brown Bag presentations are held on the Zoom platform. RSVPs are no longer required. Join a presentation here: https://humboldtstate.zoom.us/j/87055623060?pwd=bjJOU3lBczREaHFNaDV5Q012djdodz09#success
X-ALT-DESC;FMTTYPE=text/html:This week: Update on Humboldt County Climate Action &amp\; Sea Level Rise Planning with Michael Richardson\, Planner\, Humboldt County. The presentations begin promptly at noon and last about an hour\, with time for questions. All OLLI Brown Bag presentations are held on the Zoom platform. RSVPs are no longer required. Join a presentation here: https://humboldtstate.zoom.us/j/87055623060?pwd=bjJOU3lBczREaHFNaDV5Q012djdodz09#success
LOCATION:Zoom
UID:e.2942.286
SEQUENCE:3
DTSTAMP:20260421T181718Z
URL:https://business.arcatachamber.com/events/details/olli-brown-bag-lunch-update-on-humboldt-county-climate-action-sea-level-rise-planning-286
END:VEVENT

END:VCALENDAR
