BEGIN:VCALENDAR
VERSION:2.0
PRODID:-//ChamberMaster//Event Calendar 2.0//EN
METHOD:PUBLISH
X-PUBLISHED-TTL:P3D
REFRESH-INTERVAL:P3D
CALSCALE:GREGORIAN
BEGIN:VEVENT
DTSTART:20230410T190000Z
DTEND:20230410T200000Z
X-MICROSOFT-CDO-ALLDAYEVENT:FALSE
SUMMARY:OLLI Brown Bag Lunch Presentations
DESCRIPTION:Stay connected with FREE OLLI online presentations\n\nJoin OLLI Mondays at noon for Brown Bag Lunch Presentations. As always\, these informational sessions are free and open to all members of the community.\n\nThe Brown Bag Lunch Presentations are made possible by the generous donations from the Friends of OLLI.\n\nThe presentations begin promptly at noon and last about an hour\, with time for questions.\n\nAll OLLI Brown Bag presentations are held on the Zoom platform. RSVPs are no longer required. Join a presentation here.\n\n*If you need help getting set up on Zoom\, or would like to participate in a Zoom Tutorial in advance of this presentation\, please call 826-5880 or e-mail us.
X-ALT-DESC;FMTTYPE=text/html:<h3><em>Stay connected with FREE OLLI online presentations</em></h3>\n\n<p>Join OLLI Mondays at noon for&nbsp\;Brown Bag Lunch Presentations. As always\, these informational sessions are free and open to all members of the community.</p>\n\n<p>The Brown Bag Lunch Presentations are made possible by the generous donations from the <a href="https://extended.humboldt.edu/olli/friends-olli">Friends of OLLI</a>.</p>\n\n<p>The presentations&nbsp\;begin promptly at noon and last about an hour\, with time for questions.</p>\n\n<p>All OLLI Brown Bag presentations are held on the <a href="https://zoom.us/">Zoom</a>&nbsp\;platform. RSVPs are no longer required. <a href="https://humboldtstate.zoom.us/j/87055623060?pwd=bjJOU3lBczREaHFNaDV5Q012djdodz09#success">Join a presentation here.</a></p>\n\n<p>*If you need help getting set up on Zoom\,&nbsp\;or would like to participate in a Zoom Tutorial in advance of this presentation\, please call 826-5880 or <a href="mailto:olli@humboldt.edu?subject=Zoom%20Tutorial&amp\;body=Hello%2C%20I%20would%20like%20to%20sign%20up%20for%20a%20Zoom%20Tutorial%20to%20be%20able%20to%20join%20OLLI%20Brown%20Bag%20Lunches.">e-mail us.</a></p>\n
LOCATION:Zoom
UID:e.2942.255
SEQUENCE:3
DTSTAMP:20260421T115032Z
URL:https://business.arcatachamber.com/events/details/olli-brown-bag-lunch-presentations-04-10-2023-255
END:VEVENT

END:VCALENDAR
