BEGIN:VCALENDAR
VERSION:2.0
PRODID:-//ChamberMaster//Event Calendar 2.0//EN
METHOD:PUBLISH
X-PUBLISHED-TTL:P3D
REFRESH-INTERVAL:P3D
CALSCALE:GREGORIAN
BEGIN:VEVENT
DTSTART;VALUE=DATE:20230217
DTEND;VALUE=DATE:20230218
TRANSP:TRANSPARENT
X-MICROSOFT-CDO-ALLDAYEVENT:TRUE
SUMMARY:Office Closed to the Public
DESCRIPTION:We will be using this day to prepare for our Annual Dinner on Saturday\,
X-ALT-DESC;FMTTYPE=text/html:We will be using this day to prepare for our Annual Dinner on Saturday\,&nbsp\;
LOCATION:
UID:e.2942.106
SEQUENCE:3
DTSTAMP:20260421T084429Z
URL:https://business.arcatachamber.com/events/details/office-closed-to-the-public-106
END:VEVENT

END:VCALENDAR
