BEGIN:VCALENDAR
VERSION:2.0
PRODID:-//ChamberMaster//Event Calendar 2.0//EN
METHOD:PUBLISH
X-PUBLISHED-TTL:P3D
REFRESH-INTERVAL:P3D
CALSCALE:GREGORIAN
BEGIN:VEVENT
DTSTART:20221007T003000Z
DTEND:20221007T020000Z
X-MICROSOFT-CDO-ALLDAYEVENT:FALSE
SUMMARY:October\, 2022 - First Thursday Mixer
DESCRIPTION:We are excited to announce our October in-person Mixer! Please join the Arcata Chamber and our host\, Redwood Coast Energy Authority.
X-ALT-DESC;FMTTYPE=text/html:<div class="xdj266r x11i5rnm xat24cr x1mh8g0r x1vvkbs" style="margin: 0px\; overflow-wrap: break-word\; font-family: &quot\;Segoe UI Historic&quot\;\, &quot\;Segoe UI&quot\;\, Helvetica\, Arial\, sans-serif\; color: rgb(5\, 5\, 5)\; font-size: 15px\; background-color: rgb(255\, 255\, 255)\;">We are excited to announce our October in-person Mixer! Please join the Arcata Chamber&nbsp\;and our host\, Redwood Coast Energy Authority.</div>\n
LOCATION:
UID:e.2942.39
SEQUENCE:3
DTSTAMP:20260421T144944Z
URL:https://business.arcatachamber.com/events/details/october-2022-first-thursday-mixer-39
END:VEVENT

END:VCALENDAR
