BEGIN:VCALENDAR
VERSION:2.0
PRODID:-//ChamberMaster//Event Calendar 2.0//EN
METHOD:PUBLISH
X-PUBLISHED-TTL:P3D
REFRESH-INTERVAL:P3D
CALSCALE:GREGORIAN
BEGIN:VEVENT
DTSTART:20221104T003000Z
DTEND:20221104T020000Z
X-MICROSOFT-CDO-ALLDAYEVENT:FALSE
SUMMARY:November\, 2022 - First Thursday Mixer
DESCRIPTION:We are excited to announce our November in-person Mixer! Please join the Arcata Chamber of Commerce and our host\, Coast Central Credit Union\, on November 3rd\, 2022 from 5:30-7pm.\n\n\n\nCoast Central Credit Union will be hosting at the Uniontown branch location\, 686 F St. Arcata. They will be providing a free CCCU cup for attendees to take with them as well as having the coveted 2023 Calendars available. Moonstone Crossing will be pouring their wines\, Arcata High School will provide floral arrangements\, and Cassaro's will be catering.\n\n\n\nPlease consider donating to this in-person event to make the evening wonderfully festive! You can bring your donation to the event or drop it off at our office. Call or email for availability 707.822.3619 or Anisa@ArcataChamber.com
X-ALT-DESC;FMTTYPE=text/html:<div class="xdj266r x11i5rnm xat24cr x1mh8g0r x1vvkbs" style="margin: 0px\; overflow-wrap: break-word\; font-family: &quot\;Segoe UI Historic&quot\;\, &quot\;Segoe UI&quot\;\, Helvetica\, Arial\, sans-serif\; color: rgb(5\, 5\, 5)\; font-size: 15px\; background-color: rgb(255\, 255\, 255)\;">We are excited to announce our November in-person Mixer! Please join the Arcata Chamber of Commerce and our host\, Coast Central Credit Union\, on November 3rd\, 2022 from 5:30-7pm.<br />\n<br />\nCoast Central Credit Union will be hosting at the Uniontown branch location\, 686 F St. Arcata. They will be providing a free CCCU cup for attendees to take with them as well as having the coveted 2023 Calendars available.&nbsp\;Moonstone Crossing will be pouring their wines\, Arcata High School will provide floral arrangements\, and Cassaro&rsquo\;s will be catering.</div>\n\n<div class="xdj266r x11i5rnm xat24cr x1mh8g0r x1vvkbs" style="margin: 0px\; overflow-wrap: break-word\; font-family: &quot\;Segoe UI Historic&quot\;\, &quot\;Segoe UI&quot\;\, Helvetica\, Arial\, sans-serif\; color: rgb(5\, 5\, 5)\; font-size: 15px\; background-color: rgb(255\, 255\, 255)\;"><br />\nPlease consider donating to this in-person event to make the evening wonderfully festive! You can bring your donation to the event or drop it off at our office. Call or email for availability 707.822.3619 or Anisa@ArcataChamber.com</div>\n
LOCATION:686 F St\, Arcata\, CA 95521
UID:e.2942.40
SEQUENCE:3
DTSTAMP:20260421T145057Z
URL:https://business.arcatachamber.com/events/details/november-2022-first-thursday-mixer-40
END:VEVENT

END:VCALENDAR
