BEGIN:VCALENDAR
VERSION:2.0
PRODID:-//ChamberMaster//Event Calendar 2.0//EN
METHOD:PUBLISH
X-PUBLISHED-TTL:P3D
REFRESH-INTERVAL:P3D
CALSCALE:GREGORIAN
BEGIN:VEVENT
DTSTART:20230329T170000Z
DTEND:20230329T190000Z
X-MICROSOFT-CDO-ALLDAYEVENT:FALSE
SUMMARY:NorCAN X Access Humboldt Media 101 training
DESCRIPTION:Join NorCAN for an interactive Media 101 workshop alongside Access Humboldt\, Wednesday March 29th 2023 10AM  sponsored by NorCAN and hosted by the ERV Community Center Foundation. Participants will be introduced to Humboldt's nonprofit Media Resource\, Access Humboldt and given a walk through of free and available resources and how media can enhance their nonprofit/organization to better engage with their community. We will touch on media literacy and how they can better use and utilize local news and information to better serve Humboldt County. Lastly we'll cover easy ways to get involved with community media and to better platform your nonprofit/organization. \n\nERV plans initially to operate NorCAN as a one-year pilot program. During the 2023 calendar year\, ERV staff will work closely with the NorCAN Reorganizing Committee to guide the transition\, re-launch\, and programming. At the end of 2023\, the Committee and ERV staff will evaluate whether the association is able to meet its commitment to serve the region's nonprofit community while remaining financially viable. NorCAN was originally established in 1999\, when HAF+WRCF came together with local nonprofit leaders to provide a vehicle for nonprofit staff\, board members\, and volunteers to access professional development and technical assistance and to have opportunities to network\, collaborate\, and advocate.
X-ALT-DESC;FMTTYPE=text/html:<p><span style="color:rgb(32\, 33\, 36)\; font-family:arial">Join NorCAN for an interactive Media 101 workshop alongside Access Humboldt\,&nbsp\;</span><strong>Wednesday March 29th 2023 10AM</strong><span style="color:rgb(32\, 33\, 36)\; font-family:arial">&nbsp\; sponsored by NorCAN and hosted by the ERV Community Center Foundation. Participants will be introduced to Humboldt&#39\;s nonprofit Media Resource\, Access Humboldt and given a walk through of free and available resources and how media can enhance their nonprofit/organization to better engage with their community. We will touch on media literacy and how they can better use and utilize local news and information to better serve Humboldt County. Lastly we&#39\;ll cover easy ways to get involved with community media and to better platform your nonprofit/organization.&nbsp\;</span></p>\n\n<p><span style="color:rgb(32\, 33\, 36)\; font-family:arial">ERV plans initially to operate NorCAN as a one-year pilot program. During the 2023 calendar year\, ERV staff will work closely with the NorCAN Reorganizing Committee to guide the transition\, re-launch\, and programming. At the end of 2023\, the Committee and ERV staff will evaluate whether the association is able to meet its commitment to serve the region&rsquo\;s nonprofit community while remaining financially viable. NorCAN was originally established in 1999\, when HAF+WRCF came together with local nonprofit leaders to provide a vehicle for nonprofit staff\, board members\, and volunteers to access professional development and technical assistance and to have opportunities to network\, collaborate\, and advocate.</span></p>\n
LOCATION:College of The Redwoods Eureka campus - 7351 Tompkins Hill Road\, RBC-A (Building 10) - College of the Redwoods Campus\, Eureka\, CA 95501
UID:e.2942.248
SEQUENCE:3
DTSTAMP:20260421T101438Z
URL:https://business.arcatachamber.com/events/details/norcan-x-access-humboldt-media-101-training-248
END:VEVENT

END:VCALENDAR
