BEGIN:VCALENDAR
VERSION:2.0
PRODID:-//ChamberMaster//Event Calendar 2.0//EN
METHOD:PUBLISH
X-PUBLISHED-TTL:P3D
REFRESH-INTERVAL:P3D
CALSCALE:GREGORIAN
BEGIN:VEVENT
DTSTART:20250530T230000Z
DTEND:20250531T020000Z
X-MICROSOFT-CDO-ALLDAYEVENT:FALSE
SUMMARY:NorCal Casas Realty Grand Opening
DESCRIPTION:NorCal Realty Services is excited to announce our Grand Opening at our new\, more central location in downtown Arcata   637 F Street! Join us on Thursday\, May 30th from 4:00 PM to 7:00 PM for an evening of celebration\, connection\, and community. ? Meet our friendly bilingual team (Se habla espa ol) ?? Enjoy delicious food & refreshing drinks ?? Music Come see our new space\, learn more about our real estate services\, and help us kick off this exciting new chapter. We look forward to celebrating with you!
X-ALT-DESC;FMTTYPE=text/html:NorCal Realty Services is excited to announce our Grand Opening at our new\, more central location in downtown Arcata &ndash\; 637 F Street! Join us on Thursday\, May 30th from 4:00 PM to 7:00 PM for an evening of celebration\, connection\, and community. ? Meet our friendly bilingual team (Se habla espa&ntilde\;ol) ?? Enjoy delicious food &amp\; refreshing drinks ?? Music Come see our new space\, learn more about our real estate services\, and help us kick off this exciting new chapter. We look forward to celebrating with you!
LOCATION:637 F Street Arcata
UID:e.2942.577
SEQUENCE:3
DTSTAMP:20260421T120852Z
URL:https://business.arcatachamber.com/events/details/norcal-casas-realty-grand-opening-577
END:VEVENT

END:VCALENDAR
