BEGIN:VCALENDAR
VERSION:2.0
PRODID:-//ChamberMaster//Event Calendar 2.0//EN
METHOD:PUBLISH
X-PUBLISHED-TTL:P3D
REFRESH-INTERVAL:P3D
CALSCALE:GREGORIAN
BEGIN:VEVENT
DTSTART:20250406T003000Z
DTEND:20250406T060000Z
X-MICROSOFT-CDO-ALLDAYEVENT:FALSE
SUMMARY:NCRCT's Dancing in the Rain Gala
DESCRIPTION:NCRCT invites you to our 2025 Dancing in the Rain Gala for what is sure to be an unforgettable evening dedicated to supporting survivors of sexualized violence. This night will be a celebration of resilience and hope\, featuring a delicious array of hot and cold hors d'oeuvres\, as well as a plated dinner prepared by the local legend Brett Shuler (vegetarian/vegan options available)\, and non-alcoholic beverages\; all of which are included with your admission. A cash bar with signature cocktails\, beer\, wine\, cider\, and other spirits will be available\, after you use your drink token(s) included with your ticket\, of course. A bountiful dessert buffet will also be at your fingertips while you explore a carefully cultivated variety of exciting silent auction items. Most importantly\, your attendance is essential to ensuring NCRCT can continue its critical work in our community. Every ticket purchased directly supports NCRCT's dedicated team\, enabling us to continue providing vital 24-hour crisis intervention and counseling services for survivors of sexual assault and abuse. The funds raised at this event are crucial to sustaining our efforts to offer confidential support\, advocacy\, and resources to local survivors. After dinner\, it's time to let loose and dance the night away with Humboldt's #1 cover band\, The Undercovers\, playing the best pop hits. The bar and dessert will be available until 11pm\, giving you plenty of time to enjoy the festivities. By joining us\, you're not just attending a party you're making a direct impact on the lives of the survivors in our community.
X-ALT-DESC;FMTTYPE=text/html:NCRCT invites you to our 2025 Dancing in the Rain Gala for what is sure to be an unforgettable evening dedicated to supporting survivors of sexualized violence. This night will be a celebration of resilience and hope\, featuring a delicious array of hot and cold hors d&rsquo\;oeuvres\, as well as a plated dinner prepared by the local legend Brett Shuler (vegetarian/vegan options available)\, and non-alcoholic beverages\; all of which are included with your admission. A cash bar with signature cocktails\, beer\, wine\, cider\, and other spirits will be available\, after you use your drink token(s) included with your ticket\, of course. A bountiful dessert buffet will also be at your fingertips while you explore a carefully cultivated variety of exciting silent auction items. Most importantly\, your attendance is essential to ensuring NCRCT can continue its critical work in our community. Every ticket purchased directly supports NCRCT&rsquo\;s dedicated team\, enabling us to continue providing vital 24-hour crisis intervention and counseling services for survivors of sexual assault and abuse. The funds raised at this event are crucial to sustaining our efforts to offer confidential support\, advocacy\, and resources to local survivors. After dinner\, it&rsquo\;s time to let loose and dance the night away with Humboldt&rsquo\;s #1 cover band\, The Undercovers\, playing the best pop hits. The bar and dessert will be available until 11pm\, giving you plenty of time to enjoy the festivities. By joining us\, you&rsquo\;re not just attending a party&mdash\;you&rsquo\;re making a direct impact on the lives of the survivors in our community.
LOCATION:Sequoia Conference Center\, 901 Myrtle Ave.\, Eureka\, CA.
UID:e.2942.568
SEQUENCE:3
DTSTAMP:20260421T145226Z
URL:https://business.arcatachamber.com/events/details/ncrct-s-dancing-in-the-rain-gala-568
END:VEVENT

END:VCALENDAR
