BEGIN:VCALENDAR
VERSION:2.0
PRODID:-//ChamberMaster//Event Calendar 2.0//EN
METHOD:PUBLISH
X-PUBLISHED-TTL:P3D
REFRESH-INTERVAL:P3D
CALSCALE:GREGORIAN
BEGIN:VEVENT
DTSTART:20230603T170000Z
DTEND:20230603T190000Z
X-MICROSOFT-CDO-ALLDAYEVENT:FALSE
SUMMARY:Move To End Hunger
DESCRIPTION:The Move to End Hunger walk-a-thon fundraiser will be taking place on Saturday\, June 3 at 10 am at the Arcata Marsh. Meet at the parking lot at Klopp Lake to walk 1\, 3\, or 4.5 miles to raise funds to help Food For People further their mission to end hunger in Humboldt County. Participants are encouraged to collect pledges and can access pledge forms at foodforpeople.org. You can also go at your own pace and log miles throughout the week. Visit foodforpeople.org for more information.
X-ALT-DESC;FMTTYPE=text/html:The Move to End Hunger walk-a-thon fundraiser will be taking place on Saturday\, June 3 at 10 am at the Arcata Marsh. Meet at the parking lot at Klopp Lake to walk 1\, 3\, or 4.5 miles to raise funds to help Food For People further their mission to end hunger in Humboldt County. Participants are encouraged to collect pledges and can access pledge forms at foodforpeople.org. You can also go at your own pace and log miles throughout the week. Visit foodforpeople.org for more information.
LOCATION:Klopp Lake Parking Lot at Arcata Marsh
UID:e.2942.279
SEQUENCE:3
DTSTAMP:20260421T144933Z
URL:https://business.arcatachamber.com/events/details/move-to-end-hunger-279
END:VEVENT

END:VCALENDAR
