BEGIN:VCALENDAR
VERSION:2.0
PRODID:-//ChamberMaster//Event Calendar 2.0//EN
METHOD:PUBLISH
X-PUBLISHED-TTL:P3D
REFRESH-INTERVAL:P3D
CALSCALE:GREGORIAN
BEGIN:VEVENT
DTSTART:20230728T220000Z
DTEND:20230728T230000Z
X-MICROSOFT-CDO-ALLDAYEVENT:FALSE
SUMMARY:Mother's Cooking - Ribbon Cutting and Grand Opening
DESCRIPTION:Mother's Cooking has bought the food truck at Septentrio in Arcata and will be having their Grand Opening and Ribbon Cutting to celebrate the next phase of their business!
X-ALT-DESC;FMTTYPE=text/html:Mother&#39\;s Cooking has bought the food truck at Septentrio in Arcata and will be having their Grand Opening and Ribbon Cutting to celebrate the next phase of their business!
LOCATION:650 6th Street\, Arcata\, CA 95521
UID:e.2942.294
SEQUENCE:3
DTSTAMP:20260421T181620Z
URL:https://business.arcatachamber.com/events/details/mother-s-cooking-ribbon-cutting-and-grand-opening-294
END:VEVENT

END:VCALENDAR
