BEGIN:VCALENDAR
VERSION:2.0
PRODID:-//ChamberMaster//Event Calendar 2.0//EN
METHOD:PUBLISH
X-PUBLISHED-TTL:P3D
REFRESH-INTERVAL:P3D
CALSCALE:GREGORIAN
BEGIN:VEVENT
DTSTART:20261002T003000Z
DTEND:20261002T020000Z
X-MICROSOFT-CDO-ALLDAYEVENT:FALSE
SUMMARY:Mixer at StartUp Humboldt Co-hosted by Vineyard Offshore
DESCRIPTION:
X-ALT-DESC;FMTTYPE=text/html:
LOCATION:
UID:e.2942.617
SEQUENCE:3
DTSTAMP:20260423T153222Z
URL:https://business.arcatachamber.com/events/details/mixer-at-startup-humboldt-co-hosted-by-vineyard-offshore-617
END:VEVENT

END:VCALENDAR
