BEGIN:VCALENDAR
VERSION:2.0
PRODID:-//ChamberMaster//Event Calendar 2.0//EN
METHOD:PUBLISH
X-PUBLISHED-TTL:P3D
REFRESH-INTERVAL:P3D
CALSCALE:GREGORIAN
BEGIN:VEVENT
DTSTART:20251205T013000Z
DTEND:20251205T030000Z
X-MICROSOFT-CDO-ALLDAYEVENT:FALSE
SUMMARY:Mixer at Redwood Capital Bank!
DESCRIPTION:Join us for a Mixer at the Redwood Capital Bank Arcata Branch!
X-ALT-DESC;FMTTYPE=text/html:Join us for a Mixer at the Redwood Capital Bank Arcata Branch!
LOCATION:
UID:e.2942.608
SEQUENCE:3
DTSTAMP:20260421T205315Z
URL:https://business.arcatachamber.com/events/details/mixer-at-redwood-capital-bank-608
END:VEVENT

END:VCALENDAR
