BEGIN:VCALENDAR
VERSION:2.0
PRODID:-//ChamberMaster//Event Calendar 2.0//EN
METHOD:PUBLISH
X-PUBLISHED-TTL:P3D
REFRESH-INTERVAL:P3D
CALSCALE:GREGORIAN
BEGIN:VEVENT
DTSTART:20230912T180000Z
DTEND:20230912T190000Z
X-MICROSOFT-CDO-ALLDAYEVENT:FALSE
SUMMARY:Managing Change with Confidence: Strategies for Today’s Workplace - An Express Exmployment Webinar
DESCRIPTION:We invite you to watch this webinar in the office with us on Tuesday\, September 12th from 11 am to 12 pm. We will have food and drinks and a Q & A afterward with Leif Kamrud one of our Board Members and the Operations Manager of our Regional Express Employment Professionals office. \n\n \nSummary\n\nDespite recent economic concerns\, hiring decision-makers are feeling optimistic about the future. But the disruptions of the past few years and the challenges companies face in filling positions are still putting pressure on industries across the economy. \n\nEmployee expectations\, economic conditions and employers? ability to meet the needs of todays workforce have all changed. Companies need strategies to handle the current landscape and prepare for the future. This webinar will offer strategies to confidently manage disruptions and challenges\, such as:\n\n\n	The shifting economic landscape\n	The 5-Generation workplace and succession planning\n	The adoption of AI\, automation and technology\n\n\nSpeakers\n\nEmily Klein\n\nStrategist & Executive Advisor\n\n\nCorwin Bousada\n\nOrganizational Change & Program Management\n\nPepsiCo
X-ALT-DESC;FMTTYPE=text/html:We invite you to watch this webinar in the office with us on Tuesday\, September 12th from 11 am to 12 pm. We will have food and drinks and a Q &amp\; A afterward with Leif Kamrud one of our Board Members and the Operations Manager of our Regional Express Employment Professionals office.&nbsp\;<br>\n&nbsp\;\n<div class="section-header js-header" name="sectionLabel" style="box-sizing: border-box\; font-family: Arial\; font-size: 24px\; font-weight: 700\; color: rgb(0\, 150\, 214)\; margin-bottom: 20px\; line-height: 1\; visibility: visible\;">Summary</div>\n\n<p style="box-sizing: border-box\; margin: 0px 0px 10px\;"><span class="summary" name="summary" style="box-sizing: border-box\; overflow-wrap: break-word\; font-family: &quot\;Segoe UI&quot\;\, Frutiger\, &quot\;Frutiger Linotype&quot\;\, &quot\;Dejavu Sans&quot\;\, &quot\;Helvetica Neue&quot\;\, Arial\, sans-serif\; font-size: 14px\;">Despite recent economic concerns\, hiring decision-makers are feeling optimistic about the future. But the disruptions of the past few years and the challenges companies face in filling positions are still putting pressure on industries across the economy.&nbsp\;</span></p>\n\n<p style="box-sizing: border-box\; margin: 0px 0px 10px\;"><span class="summary" name="summary" style="box-sizing: border-box\; overflow-wrap: break-word\; font-family: &quot\;Segoe UI&quot\;\, Frutiger\, &quot\;Frutiger Linotype&quot\;\, &quot\;Dejavu Sans&quot\;\, &quot\;Helvetica Neue&quot\;\, Arial\, sans-serif\; font-size: 14px\;">Employee expectations\, economic conditions and employers? ability to meet the needs of todays workforce have all changed. Companies need strategies to handle the current landscape and prepare for the future. This webinar will offer strategies to confidently manage disruptions and challenges\, such as:</span></p>\n\n<ul style="box-sizing: border-box\; margin-top: 0px\; margin-bottom: 10px\;">\n	<li style="box-sizing: border-box\;"><span class="summary" name="summary" style="box-sizing: border-box\; overflow-wrap: break-word\; font-family: &quot\;Segoe UI&quot\;\, Frutiger\, &quot\;Frutiger Linotype&quot\;\, &quot\;Dejavu Sans&quot\;\, &quot\;Helvetica Neue&quot\;\, Arial\, sans-serif\; font-size: 14px\;">The shifting economic landscape</span></li>\n	<li style="box-sizing: border-box\;"><span class="summary" name="summary" style="box-sizing: border-box\; overflow-wrap: break-word\; font-family: &quot\;Segoe UI&quot\;\, Frutiger\, &quot\;Frutiger Linotype&quot\;\, &quot\;Dejavu Sans&quot\;\, &quot\;Helvetica Neue&quot\;\, Arial\, sans-serif\; font-size: 14px\;">The 5-Generation workplace and succession planning</span></li>\n	<li style="box-sizing: border-box\;"><span class="summary" name="summary" style="box-sizing: border-box\; overflow-wrap: break-word\; font-family: &quot\;Segoe UI&quot\;\, Frutiger\, &quot\;Frutiger Linotype&quot\;\, &quot\;Dejavu Sans&quot\;\, &quot\;Helvetica Neue&quot\;\, Arial\, sans-serif\; font-size: 14px\;">The adoption of AI\, automation and technology</span></li>\n</ul>\n\n<div style="box-sizing: border-box\;"><span class="summary" name="summary" style="box-sizing: border-box\; overflow-wrap: break-word\; font-family: &quot\;Segoe UI&quot\;\, Frutiger\, &quot\;Frutiger Linotype&quot\;\, &quot\;Dejavu Sans&quot\;\, &quot\;Helvetica Neue&quot\;\, Arial\, sans-serif\; font-size: 14px\;">Speakers</span><br>\n<span class="sp-name" style="box-sizing: border-box\; color: rgb(0\, 0\, 0)\; font-family: &quot\;Segoe UI&quot\;\, Frutiger\, &quot\;Frutiger Linotype&quot\;\, &quot\;Dejavu Sans&quot\;\, &quot\;Helvetica Neue&quot\;\, Arial\, sans-serif\; font-size: 14px\; font-weight: bold\;">Emily Klein</span><br style="box-sizing: border-box\; color: rgb(0\, 0\, 0)\; font-family: &quot\;Segoe UI&quot\;\, Frutiger\, &quot\;Frutiger Linotype&quot\;\, &quot\;Dejavu Sans&quot\;\, &quot\;Helvetica Neue&quot\;\, Arial\, sans-serif\; font-size: 14px\;">\n<span class="sp-title" style="box-sizing: border-box\; color: rgb(0\, 0\, 0)\; font-family: &quot\;Segoe UI&quot\;\, Frutiger\, &quot\;Frutiger Linotype&quot\;\, &quot\;Dejavu Sans&quot\;\, &quot\;Helvetica Neue&quot\;\, Arial\, sans-serif\; font-size: 14px\;">Strategist &amp\; Executive Advisor</span>\n\n<div class="sp-begin" style="box-sizing: border-box\; clear: both\; font-size: 14px\; color: rgb(0\, 0\, 0)\; font-family: &quot\;Segoe UI&quot\;\, Frutiger\, &quot\;Frutiger Linotype&quot\;\, &quot\;Dejavu Sans&quot\;\, &quot\;Helvetica Neue&quot\;\, Arial\, sans-serif\;">\n<div style="box-sizing: border-box\;"><span class="sp-name" style="box-sizing: border-box\; font-weight: bold\;">Corwin Bousada</span><br style="box-sizing: border-box\;">\n<span class="sp-title" style="box-sizing: border-box\;">Organizational Change &amp\; Program Management</span><br style="box-sizing: border-box\;">\n<span class="sp-company" style="box-sizing: border-box\;">PepsiCo</span></div>\n</div>\n</div>\n
LOCATION:1635 Heindon Road
UID:e.2942.304
SEQUENCE:3
DTSTAMP:20260421T194525Z
URL:https://business.arcatachamber.com/events/details/managing-change-with-confidence-strategies-for-today-s-workplace-an-express-exmployment-webinar-304
END:VEVENT

END:VCALENDAR
