BEGIN:VCALENDAR
VERSION:2.0
PRODID:-//ChamberMaster//Event Calendar 2.0//EN
METHOD:PUBLISH
X-PUBLISHED-TTL:P3D
REFRESH-INTERVAL:P3D
CALSCALE:GREGORIAN
BEGIN:VEVENT
DTSTART:20240115T140000Z
DTEND:20240301T020000Z
X-MICROSOFT-CDO-ALLDAYEVENT:FALSE
SUMMARY:Mad River Steelhead Derby
DESCRIPTION:It's almost Winter Steelhead season on the North Coast! And with the winter run of fish to the Mad River Hatchery\, comes the annual Nor-Cal Guides and Sportsmen Association's Mad River Steelhead Derby. This event is held on the Mad River and is a hatchery fish only derby. The Derby starts on January 15 and runs until February 29. That's almost two months to catch a fish. The three largest Steelhead in the adult and the youth division are eligible to win cash from Derby sponsors. Even if you don't catch a big fish\, you'll be entered to win all kinds of raffle prizes just for signing up. Other prizes include a Winner Take All Raffle dream package\, crazy amounts of fishing tackle\, rod and reel combos\, ocean and river trips with a professional guide or you can win a 2-night Air-B-N-B stay just minutes away from the Mad River. Sign up online at MadRiverSteelheadDerby.com or locally at RMI Outdoors in Eureka. See you on the river. Awards ceremony at Mad River Brewing Co in Blue Lake on March 3.
X-ALT-DESC;FMTTYPE=text/html:It&rsquo\;s almost Winter Steelhead season on the North Coast! And with the winter run of fish to the Mad River Hatchery\, comes the annual Nor-Cal Guides and Sportsmen Association&rsquo\;s Mad River Steelhead Derby. This event is held on the Mad River and is a hatchery fish only derby. The Derby starts on January 15 and runs until February 29. That&rsquo\;s almost two months to catch a fish. The three largest Steelhead in the adult and the youth division are eligible to win cash from Derby sponsors. Even if you don&rsquo\;t catch a big fish\, you&rsquo\;ll be entered to win all kinds of raffle prizes just for signing up. Other prizes include a Winner Take All Raffle dream package\, crazy amounts of fishing tackle\, rod and reel combos\, ocean and river trips with a professional guide or you can win a 2-night Air-B-N-B stay just minutes away from the Mad River. Sign up online at MadRiverSteelheadDerby.com or locally at RMI Outdoors in Eureka. See you on the river. Awards ceremony at Mad River Brewing Co in Blue Lake on March 3.
LOCATION:Mad River Brewing Co.
UID:e.2942.343
SEQUENCE:3
DTSTAMP:20260422T015451Z
URL:https://business.arcatachamber.com/events/details/mad-river-steelhead-derby-343
END:VEVENT

END:VCALENDAR
