BEGIN:VCALENDAR
VERSION:2.0
PRODID:-//ChamberMaster//Event Calendar 2.0//EN
METHOD:PUBLISH
X-PUBLISHED-TTL:P3D
REFRESH-INTERVAL:P3D
CALSCALE:GREGORIAN
BEGIN:VEVENT
DTSTART:20230421T170000Z
DTEND:20230421T180000Z
X-MICROSOFT-CDO-ALLDAYEVENT:FALSE
SUMMARY:Let's Connect Friday Conversations
DESCRIPTION:These weekly sessions\, which began early in the pandemic as a response to the isolation brought on by COVID-19\, have grown to become a regular gathering of friendly and interesting people. Facilitated by Tracey Barnes-Priestley\, this hour of conversation focuses on a new topic each week. It is time for us to share meaningful stories\, thought-provoking experiences\, and often\, plenty of laughter. Please join us!
X-ALT-DESC;FMTTYPE=text/html:These weekly sessions\, which began early in the pandemic as a response to the isolation brought on by COVID-19\, have grown to become a regular gathering of friendly and interesting people. Facilitated by Tracey Barnes-Priestley\, this hour of conversation focuses on a new topic each week. It is time for us to share meaningful stories\, thought-provoking experiences\, and often\, plenty of laughter. Please join us!
LOCATION:Online via Zoom
UID:e.2942.269
SEQUENCE:3
DTSTAMP:20260421T132344Z
URL:https://business.arcatachamber.com/events/details/let-s-connect-friday-conversations-04-21-2023-269
END:VEVENT

END:VCALENDAR
