BEGIN:VCALENDAR
VERSION:2.0
PRODID:-//ChamberMaster//Event Calendar 2.0//EN
METHOD:PUBLISH
X-PUBLISHED-TTL:P3D
REFRESH-INTERVAL:P3D
CALSCALE:GREGORIAN
BEGIN:VEVENT
DTSTART:20250614T010000Z
DTEND:20250614T030000Z
X-MICROSOFT-CDO-ALLDAYEVENT:FALSE
SUMMARY:Language Exchange Meetup
DESCRIPTION:Speak\, Teach\, Learn! Everyone is welcome regardless of language experience. Learn how to travel or tell us about your cultural experiences. We want to hear your stories!
X-ALT-DESC;FMTTYPE=text/html:Speak\, Teach\, Learn! Everyone is welcome regardless of language experience. Learn how to travel or tell us about your cultural experiences. We want to hear your stories!
LOCATION:Richards Goat
UID:e.2942.579
SEQUENCE:3
DTSTAMP:20260421T101344Z
URL:https://business.arcatachamber.com/events/details/language-exchange-meetup-06-13-2025-579
END:VEVENT

END:VCALENDAR
