BEGIN:VCALENDAR
VERSION:2.0
PRODID:-//ChamberMaster//Event Calendar 2.0//EN
METHOD:PUBLISH
X-PUBLISHED-TTL:P3D
REFRESH-INTERVAL:P3D
CALSCALE:GREGORIAN
BEGIN:VEVENT
DTSTART:20260211T180000Z
DTEND:20260211T190000Z
X-MICROSOFT-CDO-ALLDAYEVENT:FALSE
SUMMARY:Is a GSA Schedule Right for Your Business?
DESCRIPTION:What are General Services Administration (GSA) Schedules and why are they important to you? This webinar will discuss the purpose and structure of the GSA Schedules. We will also talk about the expected changes in GSA with the current administration and how this will impact working with the federal government in the future.
X-ALT-DESC;FMTTYPE=text/html:What are General Services Administration (GSA) Schedules and why are they important to you? This webinar will discuss the purpose and structure of the GSA Schedules. We will also talk about the expected changes in GSA with the current administration and how this will impact working with the federal government in the future.
LOCATION:Virtual (Zoom Webinar)
UID:e.2942.591
SEQUENCE:3
DTSTAMP:20260421T174006Z
URL:https://business.arcatachamber.com/events/details/is-a-gsa-schedule-right-for-your-business-591
END:VEVENT

END:VCALENDAR
